BEGIN:VCALENDAR
VERSION:2.0
PRODID:-//Plone.org//NONSGML plone.app.event//EN
X-WR-TIMEZONE:Europe/Madrid
BEGIN:VEVENT
SUMMARY:No-Binari: Action-painting
DTSTART;TZID=Europe/Madrid;VALUE=DATE-TIME:20210626T113000
DTEND;TZID=Europe/Madrid;VALUE=DATE-TIME:20210626T123000
DTSTAMP;VALUE=DATE-TIME:20260424T005903Z
UID:edecd4639870c3d2aaf038cb3d08414e
CREATED;VALUE=DATE-TIME:20210626T000000Z
LOCATION:Plaça de l'Ajuntament
ORGANIZER:Jovent Dissident
COMMENT:Preu: Gratuït.
DESCRIPTION:A càrrec de Aeren Sànchez
URL:https://arenysdemar.cat/document.php?id=40705
END:VEVENT
END:VCALENDAR