BEGIN:VCALENDAR
VERSION:2.0
PRODID:-//Plone.org//NONSGML plone.app.event//EN
X-WR-TIMEZONE:Europe/Madrid
BEGIN:VEVENT
SUMMARY:BARRA-QUE-ES? Andana
DTSTART;TZID=Europe/Madrid;VALUE=DATE-TIME:20210710T193000
DTEND;TZID=Europe/Madrid;VALUE=DATE-TIME:20210710T203000
DTSTAMP;VALUE=DATE-TIME:20260424T163033Z
UID:0c3a89d2e89f8c3a92b7dbcb4f421857
CREATED;VALUE=DATE-TIME:20210710T000000Z
CATEGORIES:Música
LOCATION:Pati Escola Sinera
ORGANIZER:Arenys Tropical, Cau Flos i Calcat, Associació Pubillatge,  Patronat Sant Roc i Regidoria de Joventut
COMMENT:Preu: Gratuït
DESCRIPTION:Concerts Joves
URL:https://arenysdemar.cat/document.php?id=40741
END:VEVENT
END:VCALENDAR