BEGIN:VCALENDAR
VERSION:2.0
PRODID:-//Plone.org//NONSGML plone.app.event//EN
X-WR-TIMEZONE:Europe/Madrid
BEGIN:VEVENT
SUMMARY:BARRA-QUE-ES? El Pony Pisador
DTSTART;TZID=Europe/Madrid;VALUE=DATE-TIME:20210710T233000
DTEND;TZID=Europe/Madrid;VALUE=DATE-TIME:20210711T003000
DTSTAMP;VALUE=DATE-TIME:20260424T170639Z
UID:44d78bee6525ac45c9fbc30a931225b0
CREATED;VALUE=DATE-TIME:20210710T000000Z
CATEGORIES:Música
LOCATION:Pati Escola Sinera
ORGANIZER:Cau Flos i Calcat, Associació Pubillatge,  Patronat Sant Roc,  Arenys Tropical i Regidoria de Joventut
COMMENT:Preu: Gratuït
DESCRIPTION:Concerts Joves
URL:https://arenysdemar.cat/document.php?id=40742
END:VEVENT
END:VCALENDAR