BEGIN:VCALENDAR
VERSION:2.0
PRODID:-//Plone.org//NONSGML plone.app.event//EN
X-WR-TIMEZONE:Europe/Madrid
BEGIN:VEVENT
SUMMARY:Tallers de debat del Pressupost Participatiu 2022
DTSTART;TZID=Europe/Madrid;VALUE=DATE-TIME:20210717T100000
DTEND;TZID=Europe/Madrid;VALUE=DATE-TIME:20210717T110000
DTSTAMP;VALUE=DATE-TIME:20260422T080346Z
UID:afe45dd4a89aff46bb690a465791906a
CREATED;VALUE=DATE-TIME:20210717T000000Z
CATEGORIES:Conferència
LOCATION:Sala Gran d'entitats del C.C. Calisay - Riera Pare Fita, 31
ORGANIZER:Regidoria de Participació
DESCRIPTION:Taller de Via Pública, Obres i Serveis, Urbanisme, Mobilitat i Seguretat Ciutadana
URL:https://arenysdemar.cat/document.php?id=40861
END:VEVENT
END:VCALENDAR