BEGIN:VCALENDAR
VERSION:2.0
PRODID:-//Plone.org//NONSGML plone.app.event//EN
X-WR-TIMEZONE:Europe/Madrid
BEGIN:VEVENT
SUMMARY:Exposició de pintures: Un viatge per terra, mar i cel.
DTSTART;TZID=Europe/Madrid;VALUE=DATE-TIME:20210806T180000
DTEND;TZID=Europe/Madrid;VALUE=DATE-TIME:20210806T190000
DTSTAMP;VALUE=DATE-TIME:20260423T103920Z
UID:299780ba9ec16c6a4f543b271ba6141f
CREATED;VALUE=DATE-TIME:20210806T000000Z
CATEGORIES:Exposició
LOCATION:Sala d'actes de la Biblioteca
ORGANIZER:Regidoria de Cultura
COMMENT:Durada: Fins al 29 d'agost de 2021
DESCRIPTION:Homenatge pòstum a Jordi Martí Pla
URL:https://arenysdemar.cat/document.php?id=40885
END:VEVENT
END:VCALENDAR