BEGIN:VCALENDAR
VERSION:2.0
PRODID:-//Plone.org//NONSGML plone.app.event//EN
X-WR-TIMEZONE:Europe/Madrid
BEGIN:VEVENT
SUMMARY:49enes Jornades internacionals folklòriques de Catalunya: Ucraïna
DTSTART;TZID=Europe/Madrid;VALUE=DATE-TIME:20210905T180000
DTEND;TZID=Europe/Madrid;VALUE=DATE-TIME:20210905T190000
DTSTAMP;VALUE=DATE-TIME:20260420T203226Z
UID:96712e1f56b58e83c09b50a26187de1b
CREATED;VALUE=DATE-TIME:20210905T000000Z
CATEGORIES:Música
LOCATION:Teatre Principal - C. Església, 45-47
ORGANIZER:Regidoria de Cultura i Adifolk
COMMENT:Preu: Aforament limitat. Treu la teva invitació a partir del 30 d'agost a través del portal web del Teatre Principal
DESCRIPTION:Colors of Transcarpathia, grup folklòric d&rsquo;Ucraïna
URL:https://arenysdemar.cat/document.php?id=40918
END:VEVENT
END:VCALENDAR