BEGIN:VCALENDAR
VERSION:2.0
PRODID:-//Plone.org//NONSGML plone.app.event//EN
X-WR-TIMEZONE:Europe/Madrid
BEGIN:VEVENT
SUMMARY:Història: Lliçons de l'exili i el retorn del president Tarradellas per a la Catalunya actual
DTSTART;TZID=Europe/Madrid;VALUE=DATE-TIME:20211123T180000
DTEND;TZID=Europe/Madrid;VALUE=DATE-TIME:20211123T190000
DTSTAMP;VALUE=DATE-TIME:20260420T104555Z
UID:2ae749e49b4f1f3cb652e282605a6ae2
CREATED;VALUE=DATE-TIME:20211123T000000Z
CATEGORIES:Conferència
LOCATION:Sala Josep Maria Arnau del C.C.Calisay - Riera del Pare Fita, 31
ORGANIZER:Aula d'Extensió Universitària
COMMENT:Preu: -
DESCRIPTION:a càrrec de Joan Esculies, historiador, periodista i escriptor
URL:https://arenysdemar.cat/document.php?id=41020
END:VEVENT
END:VCALENDAR