BEGIN:VCALENDAR
VERSION:2.0
PRODID:-//Plone.org//NONSGML plone.app.event//EN
X-WR-TIMEZONE:Europe/Madrid
BEGIN:VEVENT
SUMMARY:Itinerari de natura pels rials d'Arenys de Mar
DTSTART;TZID=Europe/Madrid;VALUE=DATE-TIME:20211030T093000
DTEND;TZID=Europe/Madrid;VALUE=DATE-TIME:20211030T103000
DTSTAMP;VALUE=DATE-TIME:20260421T015528Z
UID:984334a50c2454d443032fdfd45687ca
CREATED;VALUE=DATE-TIME:20211030T000000Z
CATEGORIES:Mostra
LOCATION:A consultar
ORGANIZER:Ajuntament d'Arenys de Mar
COMMENT:Preu: Gratuït. Places limitades. Cal reserva prèvia a turisme@arenysdemar.cat o al telèfon 937957039
Durada: La sortida té una durada de 4 hores
DESCRIPTION:a càrrec del consultor ambiental i guia de natura Pere Alzina
URL:https://arenysdemar.cat/document.php?id=41077
END:VEVENT
END:VCALENDAR