BEGIN:VCALENDAR
VERSION:2.0
PRODID:-//Plone.org//NONSGML plone.app.event//EN
X-WR-TIMEZONE:Europe/Madrid
BEGIN:VEVENT
SUMMARY:Hora del conte: Menú de contes per a menuts (o no tant)
DTSTART;TZID=Europe/Madrid;VALUE=DATE-TIME:20211111T180000
DTEND;TZID=Europe/Madrid;VALUE=DATE-TIME:20211111T190000
DTSTAMP;VALUE=DATE-TIME:20260420T185928Z
UID:e584886eb2075653f13679b0fb58ea4b
CREATED;VALUE=DATE-TIME:20211111T000000Z
CATEGORIES:Infantils
LOCATION:Sala d'Actes de la Biblioteca - C. Bonaire, 3
ORGANIZER:Biblioteca - Regidoria de Cultura
COMMENT:Preu: Cal inscripció prèvia a la biblioteca, per telèfon (93.792.32.53) o correu electrònic (b.arenysma.pff@diba.cat). Places limitades
DESCRIPTION:a càrrec de Martha Escudero. Per a nens d'1 a 5 anys
URL:https://arenysdemar.cat/document.php?id=41139
END:VEVENT
END:VCALENDAR