BEGIN:VCALENDAR
VERSION:2.0
PRODID:-//Plone.org//NONSGML plone.app.event//EN
X-WR-TIMEZONE:Europe/Madrid
BEGIN:VEVENT
SUMMARY:Ball del dissabte
DTSTART;TZID=Europe/Madrid;VALUE=DATE-TIME:20211030T223000
DTEND;TZID=Europe/Madrid;VALUE=DATE-TIME:20211030T233000
DTSTAMP;VALUE=DATE-TIME:20260424T062139Z
UID:ac6a468e48d3811058e34fff1d972fb8
CREATED;VALUE=DATE-TIME:20211030T000000Z
CATEGORIES:Música
LOCATION:Ateneu Arenyenc - Anselm Clavé, 22
ORGANIZER:Ateneu Arenyenc
COMMENT:Preu: Soci 5 euros i no soci 8 euros
DESCRIPTION:amb l'actuació de duet Genion's Grup
URL:https://arenysdemar.cat/document.php?id=41151
END:VEVENT
END:VCALENDAR