BEGIN:VCALENDAR
VERSION:2.0
PRODID:-//Plone.org//NONSGML plone.app.event//EN
X-WR-TIMEZONE:Europe/Madrid
BEGIN:VEVENT
SUMMARY:Inauguració de l'exposició: El futur ja és aquí! La nova societat dels metalls
DTSTART;TZID=Europe/Madrid;VALUE=DATE-TIME:20211121T120000
DTEND;TZID=Europe/Madrid;VALUE=DATE-TIME:20211121T130000
DTSTAMP;VALUE=DATE-TIME:20260423T233530Z
UID:a76871a4e859ec1f9862ec3cff586f31
CREATED;VALUE=DATE-TIME:20211121T000000Z
CATEGORIES:Exposició
LOCATION:Museu Marès de les Puntes - Església, 41
ORGANIZER:Museu d'Arenys de Mar
COMMENT:Preu: Gratuït
Durada: Fins a les 13h
URL:https://arenysdemar.cat/document.php?id=41230
END:VEVENT
END:VCALENDAR