BEGIN:VCALENDAR
VERSION:2.0
PRODID:-//Plone.org//NONSGML plone.app.event//EN
X-WR-TIMEZONE:Europe/Madrid
BEGIN:VEVENT
SUMMARY:41è Cros dels Arenys
DTSTART;TZID=Europe/Madrid;VALUE=DATE-TIME:20211106T100000
DTEND;TZID=Europe/Madrid;VALUE=DATE-TIME:20211106T110000
DTSTAMP;VALUE=DATE-TIME:20260424T061440Z
UID:4b8ce6daed356aaded51e0157291008e
CREATED;VALUE=DATE-TIME:20211106T000000Z
CATEGORIES:Esports
LOCATION:Parc Can Jalpí (Arenys de Munt)
ORGANIZER:Ajuntament d'Arenys de Mar i d'Arenys de Munt, Penya Apa Anem-hi i Gesport
COMMENT:Preu: Per inscripcions cliqueu aquí
URL:https://arenysdemar.cat/document.php?id=41238
END:VEVENT
END:VCALENDAR