BEGIN:VCALENDAR
VERSION:2.0
PRODID:-//Plone.org//NONSGML plone.app.event//EN
X-WR-TIMEZONE:Europe/Madrid
BEGIN:VEVENT
SUMMARY:Body balance
DTSTART;TZID=Europe/Madrid;VALUE=DATE-TIME:20211030T103000
DTEND;TZID=Europe/Madrid;VALUE=DATE-TIME:20211030T113000
DTSTAMP;VALUE=DATE-TIME:20260425T125221Z
UID:328bb69f1daae19c3db520aab5426175
CREATED;VALUE=DATE-TIME:20211030T000000Z
CATEGORIES:Esports
LOCATION:Club Nàutic d'Arenys de Mar
ORGANIZER:Club Nàutic d'Arenys de Mar
COMMENT:Preu: Per a més informació i inscripcions al T/ 937921600 o bé info@cnarenys.com
URL:https://arenysdemar.cat/document.php?id=41247
END:VEVENT
END:VCALENDAR