BEGIN:VCALENDAR
VERSION:2.0
PRODID:-//Plone.org//NONSGML plone.app.event//EN
X-WR-TIMEZONE:Europe/Madrid
BEGIN:VEVENT
SUMMARY:Penja llufes!
DTSTART;TZID=Europe/Madrid;VALUE=DATE-TIME:20211228T110000
DTEND;TZID=Europe/Madrid;VALUE=DATE-TIME:20211228T120000
DTSTAMP;VALUE=DATE-TIME:20260423T121927Z
UID:c02567a8216464d3725ffc891253893d
CREATED;VALUE=DATE-TIME:20211228T000000Z
CATEGORIES:Festa
LOCATION:Plaça de l'Església - Plaça de l'Església
ORGANIZER:Regidoria de Festes. Col·labora Associació Ca La Rita
COMMENT:Preu: Gratuït
Durada: D'11h a 13H
DESCRIPTION:Taller pràctic. Trobaràs més informació en aquest enllaç
URL:https://arenysdemar.cat/document.php?id=41290
END:VEVENT
END:VCALENDAR