BEGIN:VCALENDAR
VERSION:2.0
PRODID:-//Plone.org//NONSGML plone.app.event//EN
X-WR-TIMEZONE:Europe/Madrid
BEGIN:VEVENT
SUMMARY:Festa del comerç UBICA
DTSTART;TZID=Europe/Madrid;VALUE=DATE-TIME:20211219T103000
DTEND;TZID=Europe/Madrid;VALUE=DATE-TIME:20211219T113000
DTSTAMP;VALUE=DATE-TIME:20260421T124720Z
UID:a6803572902568dd49670c6563d11bd2
CREATED;VALUE=DATE-TIME:20211219T000000Z
CATEGORIES:Mostra,Festa
LOCATION:Riera, davant la Plaça de l'Església
ORGANIZER:UBICA i Ajuntament Arenys de Mar
COMMENT:Preu: Gratuït
Durada: Tot el dia
DESCRIPTION:Aquest Nadal compra al comerç local
URL:https://arenysdemar.cat/document.php?id=41329
END:VEVENT
END:VCALENDAR