BEGIN:VCALENDAR
VERSION:2.0
PRODID:-//Plone.org//NONSGML plone.app.event//EN
X-WR-TIMEZONE:Europe/Madrid
BEGIN:VEVENT
SUMMARY:Fes-te "R"
DTSTART;TZID=Europe/Madrid;VALUE=DATE-TIME:20211219T090000
DTEND;TZID=Europe/Madrid;VALUE=DATE-TIME:20211219T100000
DTSTAMP;VALUE=DATE-TIME:20260423T163426Z
UID:4f23d67ff13a3dbd68ebd4f83e68225d
CREATED;VALUE=DATE-TIME:20211219T000000Z
CATEGORIES:Festa
LOCATION:Part alta de la Riera
ORGANIZER:AVAM
COMMENT:Preu: Tot a 1&euro;
Durada: De 9h a 17h
DESCRIPTION:Festa de la re-utilització i reciclatge. Campanya Nadal 2021
URL:https://arenysdemar.cat/document.php?id=41331
END:VEVENT
END:VCALENDAR