BEGIN:VCALENDAR
VERSION:2.0
PRODID:-//Plone.org//NONSGML plone.app.event//EN
X-WR-TIMEZONE:Europe/Madrid
BEGIN:VEVENT
SUMMARY:Tecnificació Sinera United
DTSTART;TZID=Europe/Madrid;VALUE=DATE-TIME:20211227T090000
DTEND;TZID=Europe/Madrid;VALUE=DATE-TIME:20211227T100000
DTSTAMP;VALUE=DATE-TIME:20260426T013642Z
UID:7355d33f225d226c862fa1f939589f0d
CREATED;VALUE=DATE-TIME:20211227T000000Z
CATEGORIES:Esports
LOCATION:Camp de Futbol - Rial de sa Clavella, s/n
ORGANIZER:Associació Sinera Unitec FC
COMMENT:Preu: 50&euro; tota la setmana. 15&euro; dies esporàdics.
Durada: Del 27 al 31 de desembre de 2021, de 9 a 13h
DESCRIPTION:Tecnificació per la millora del rendiment
URL:https://arenysdemar.cat/document.php?id=41361
END:VEVENT
END:VCALENDAR