BEGIN:VCALENDAR
VERSION:2.0
PRODID:-//Plone.org//NONSGML plone.app.event//EN
X-WR-TIMEZONE:Europe/Madrid
BEGIN:VEVENT
SUMMARY:Mostres i Concerts de Nadal
DTSTART;TZID=Europe/Madrid;VALUE=DATE-TIME:20211217T183000
DTEND;TZID=Europe/Madrid;VALUE=DATE-TIME:20211217T193000
DTSTAMP;VALUE=DATE-TIME:20260420T143944Z
UID:92da911c61f56d01f9065a01e1a728d8
CREATED;VALUE=DATE-TIME:20211217T000000Z
CATEGORIES:Música
LOCATION:Sala Josep Maria Arnau del C.C.Calisay - Riera del Pare Fita, 31
ORGANIZER:Associació Escola Municipal de Música Carles G. Vidiella d'Arenys de Mar
COMMENT:Durada: També els dies 20 i 22 de desembre
DESCRIPTION:a càrrec dels alumnes de l'Escola de Música: La Banda, la Mini Banda i Los Sarita
URL:https://arenysdemar.cat/document.php?id=41362
END:VEVENT
END:VCALENDAR