BEGIN:VCALENDAR
VERSION:2.0
PRODID:-//Plone.org//NONSGML plone.app.event//EN
X-WR-TIMEZONE:Europe/Madrid
BEGIN:VEVENT
SUMMARY:Concert de Nadal
DTSTART;TZID=Europe/Madrid;VALUE=DATE-TIME:20211226T200000
DTEND;TZID=Europe/Madrid;VALUE=DATE-TIME:20211226T210000
DTSTAMP;VALUE=DATE-TIME:20260423T200012Z
UID:5af99d8fcd96eaa360e014cdd7ace3b9
CREATED;VALUE=DATE-TIME:20211226T000000Z
CATEGORIES:Música
LOCATION:Església de Santa Maria
COMMENT:Preu: 12&euro; Venda anticipada a Estanc de la Riera, BonÀrea, Ateneu Arenyenc, Club Nàutic Arenys, Càritas, Hotel Vila Arenys i Seràfics
DESCRIPTION:Amb Magdalena Campasol, mezzosoprano, Vicenç Herrero, baríton, Dolors Gil, piano, Joan Vallcorba, teclats. Amb la participació d'Albert Estengre
URL:https://arenysdemar.cat/document.php?id=41370
END:VEVENT
END:VCALENDAR