BEGIN:VCALENDAR
VERSION:2.0
PRODID:-//Plone.org//NONSGML plone.app.event//EN
X-WR-TIMEZONE:Europe/Madrid
BEGIN:VEVENT
SUMMARY:Taller Autodefensa Femenina
DTSTART;TZID=Europe/Madrid;VALUE=DATE-TIME:20211127T103000
DTEND;TZID=Europe/Madrid;VALUE=DATE-TIME:20211127T113000
DTSTAMP;VALUE=DATE-TIME:20260423T140314Z
UID:9c6ffc9a2f8c5126da98932a059b694e
CREATED;VALUE=DATE-TIME:20211127T000000Z
CATEGORIES:Cursos
LOCATION:Sala '1 d'octubre' del C.C.Calisay - Riera Pare Fita, 31
ORGANIZER:Regidoria d'Igualtat
COMMENT:Durada: 2h. Durada - Dies: 27 novembre - 11 i 18 desembre de 10.30h.a 12.30h.
DESCRIPTION:Impartit per Anna Subirana
URL:https://arenysdemar.cat/document.php?id=41389
END:VEVENT
END:VCALENDAR