BEGIN:VCALENDAR
VERSION:2.0
PRODID:-//Plone.org//NONSGML plone.app.event//EN
X-WR-TIMEZONE:Europe/Madrid
BEGIN:VEVENT
SUMMARY:Sang
DTSTART;TZID=Europe/Madrid;VALUE=DATE-TIME:20211203T200000
DTEND;TZID=Europe/Madrid;VALUE=DATE-TIME:20211203T210000
DTSTAMP;VALUE=DATE-TIME:20260423T235444Z
UID:4ebbfa169b5a8156f1bde5dbd8387028
CREATED;VALUE=DATE-TIME:20211203T000000Z
CATEGORIES:Dansa
LOCATION:Teatre Principal - C. Església, 45-47
ORGANIZER:Regidoria d'Igualtat i Regidoria de Cultura
COMMENT:Preu: 2&euro;. Compra la teva entrada en aquest enllaç
DESCRIPTION:Projecte artístic Marta Carrasco
URL:https://arenysdemar.cat/document.php?id=41401
END:VEVENT
END:VCALENDAR