BEGIN:VCALENDAR
VERSION:2.0
PRODID:-//Plone.org//NONSGML plone.app.event//EN
X-WR-TIMEZONE:Europe/Madrid
BEGIN:VEVENT
SUMMARY:Taller Autodefensa Femenina
DTSTART;TZID=Europe/Madrid;VALUE=DATE-TIME:20211211T103000
DTEND;TZID=Europe/Madrid;VALUE=DATE-TIME:20211211T113000
DTSTAMP;VALUE=DATE-TIME:20260425T160955Z
UID:b1d98ae4c97aa8a4634ea19604453bf4
CREATED;VALUE=DATE-TIME:20211211T000000Z
CATEGORIES:Esports,Cursos
LOCATION:Sala Josep Maria Arnau del C.C.Calisay - Riera del Pare Fita, 31
ORGANIZER:Regidoria d'Igualtat
COMMENT:Preu: Gratuït
Durada: Dies 11 i 18 de desembre de 10.30 a 12.30h.
DESCRIPTION:Apren a defensar-te!
URL:https://arenysdemar.cat/document.php?id=41428
END:VEVENT
END:VCALENDAR