BEGIN:VCALENDAR
VERSION:2.0
PRODID:-//Plone.org//NONSGML plone.app.event//EN
X-WR-TIMEZONE:Europe/Madrid
BEGIN:VEVENT
SUMMARY:Conferència d'Il·lustració: L´ofici d´il·lustrar, què s´hi amaga al darrere
DTSTART;TZID=Europe/Madrid;VALUE=DATE-TIME:20220322T180000
DTEND;TZID=Europe/Madrid;VALUE=DATE-TIME:20220322T190000
DTSTAMP;VALUE=DATE-TIME:20260423T132707Z
UID:ff4d06f01f64518d16f33a918af8eaf6
CREATED;VALUE=DATE-TIME:20220322T000000Z
CATEGORIES:Conferència
LOCATION:Sala Josep Maria Arnau del C.C.Calisay - Riera del Pare Fita, 31
ORGANIZER:Aula d'Extensió Universitària
DESCRIPTION:a càrrec de Laura Borràs, professora de la Universitat Pompeu Fabra
URL:https://arenysdemar.cat/document.php?id=41430
END:VEVENT
END:VCALENDAR