BEGIN:VCALENDAR
VERSION:2.0
PRODID:-//Plone.org//NONSGML plone.app.event//EN
X-WR-TIMEZONE:Europe/Madrid
BEGIN:VEVENT
SUMMARY:Torneig de Nadal 2021
DTSTART;TZID=Europe/Madrid;VALUE=DATE-TIME:20211218T100000
DTEND;TZID=Europe/Madrid;VALUE=DATE-TIME:20211218T110000
DTSTAMP;VALUE=DATE-TIME:20260424T204648Z
UID:b4fa9a0f08bb1ec02b38cb76246a820c
CREATED;VALUE=DATE-TIME:20211218T000000Z
CATEGORIES:Esports
LOCATION:Ateneu Arenyenc - Anselm Clavé, 22
ORGANIZER:Ateneu Arenyenc
DESCRIPTION:Memorial Domingo Parra
URL:https://arenysdemar.cat/document.php?id=41464
END:VEVENT
END:VCALENDAR