BEGIN:VCALENDAR
VERSION:2.0
PRODID:-//Plone.org//NONSGML plone.app.event//EN
X-WR-TIMEZONE:Europe/Madrid
BEGIN:VEVENT
SUMMARY:Concert/Ball  ACTIVITAT ANUL·LADA
DTSTART;TZID=Europe/Madrid;VALUE=DATE-TIME:20220115T223000
DTEND;TZID=Europe/Madrid;VALUE=DATE-TIME:20220115T233000
DTSTAMP;VALUE=DATE-TIME:20260423T150350Z
UID:2c838a36243ee305bd2c6c6f17780b39
CREATED;VALUE=DATE-TIME:20220115T000000Z
CATEGORIES:Música
LOCATION:Ateneu Arenyenc - Anselm Clavé, 22
ORGANIZER:Ateneu Arenyenc
COMMENT:Preu: 8 euros
DESCRIPTION:amb Els Duendes
URL:https://arenysdemar.cat/document.php?id=41469
END:VEVENT
END:VCALENDAR