BEGIN:VCALENDAR
VERSION:2.0
PRODID:-//Plone.org//NONSGML plone.app.event//EN
X-WR-TIMEZONE:Europe/Madrid
BEGIN:VEVENT
SUMMARY:Ball del dissabte  ACTIVITAT ANUL·LADA
DTSTART;TZID=Europe/Madrid;VALUE=DATE-TIME:20220129T223000
DTEND;TZID=Europe/Madrid;VALUE=DATE-TIME:20220129T233000
DTSTAMP;VALUE=DATE-TIME:20260424T004658Z
UID:400632aa85f9f0b3e9427da727a8d2f7
CREATED;VALUE=DATE-TIME:20220129T000000Z
CATEGORIES:Música
LOCATION:Ateneu Arenyenc - Anselm Clavé, 22
ORGANIZER:Ateneu Arenyenc
COMMENT:Preu: Soci: 5 euros, No soci: 8 euros
DESCRIPTION:amb el Duet Alma
URL:https://arenysdemar.cat/document.php?id=41471
END:VEVENT
END:VCALENDAR