BEGIN:VCALENDAR
VERSION:2.0
PRODID:-//Plone.org//NONSGML plone.app.event//EN
X-WR-TIMEZONE:Europe/Madrid
BEGIN:VEVENT
SUMMARY:Exposició fotogràfica
DTSTART;TZID=Europe/Madrid;VALUE=DATE-TIME:20220109T173000
DTEND;TZID=Europe/Madrid;VALUE=DATE-TIME:20220109T183000
DTSTAMP;VALUE=DATE-TIME:20260424T043509Z
UID:61e6b2ccf43f977784fe7e57fcf00cb4
CREATED;VALUE=DATE-TIME:20220109T000000Z
CATEGORIES:Exposició
LOCATION:Ateneu Arenyenc - Anselm Clavé, 22
ORGANIZER:Ateneu Arenyenc
COMMENT:Preu: Gratuït
DESCRIPTION:en record de Joan Torrentó i Maresma
URL:https://arenysdemar.cat/document.php?id=41511
END:VEVENT
END:VCALENDAR