BEGIN:VCALENDAR
VERSION:2.0
PRODID:-//Plone.org//NONSGML plone.app.event//EN
X-WR-TIMEZONE:Europe/Madrid
BEGIN:VEVENT
SUMMARY:ACTIVITAT CANCELADA Òpera: Norma de Vincenzo Bellini
DTSTART;TZID=Europe/Madrid;VALUE=DATE-TIME:20220727T184500
DTEND;TZID=Europe/Madrid;VALUE=DATE-TIME:20220727T194500
DTSTAMP;VALUE=DATE-TIME:20260423T170255Z
UID:1592130f44c4a542097c45342164026b
CREATED;VALUE=DATE-TIME:20220727T000000Z
CATEGORIES:Música
LOCATION:Teatre Principal - C. Església, 45-47
ORGANIZER:Societat Coral l'Esperança i Regidoria de Cultura
COMMENT:Preu: 15 anticipat i 17 taquilla
DESCRIPTION:Retransmissió en directe des del Gran Teatre del Liceu
URL:https://arenysdemar.cat/document.php?id=41539
END:VEVENT
END:VCALENDAR