BEGIN:VCALENDAR
VERSION:2.0
PRODID:-//Plone.org//NONSGML plone.app.event//EN
X-WR-TIMEZONE:Europe/Madrid
BEGIN:VEVENT
SUMMARY:Ballet: El llac dels cignes de Pyotr Ilich Txaikovski.
DTSTART;TZID=Europe/Madrid;VALUE=DATE-TIME:20220519T201500
DTEND;TZID=Europe/Madrid;VALUE=DATE-TIME:20220519T211500
DTSTAMP;VALUE=DATE-TIME:20260424T233530Z
UID:b00a1215114ce1164e56b55e7152642e
CREATED;VALUE=DATE-TIME:20220519T000000Z
CATEGORIES:Cinema
LOCATION:Teatre Principal - C. Església, 45-47
ORGANIZER:Societat Coral l'Esperança i la Regidoria de Cultura
COMMENT:Preu: 15 anticipat i 17 taquilla
DESCRIPTION:Retransmissió en directe des de la Royal Opera House de Londres
URL:https://arenysdemar.cat/document.php?id=41541
END:VEVENT
END:VCALENDAR