BEGIN:VCALENDAR
VERSION:2.0
PRODID:-//Plone.org//NONSGML plone.app.event//EN
X-WR-TIMEZONE:Europe/Madrid
BEGIN:VEVENT
SUMMARY:Música: Un enigma musical
DTSTART;TZID=Europe/Madrid;VALUE=DATE-TIME:20220403T190000
DTEND;TZID=Europe/Madrid;VALUE=DATE-TIME:20220403T200000
DTSTAMP;VALUE=DATE-TIME:20260425T142356Z
UID:155723f0c8d3e3aea00a09ab23910951
CREATED;VALUE=DATE-TIME:20220403T000000Z
CATEGORIES:Música
LOCATION:Teatre Principal - C. Església, 45-47
ORGANIZER:Societat Coral l'Esperança i Regidoria de Cultura
COMMENT:Preu: 8  anticipat i 10  taquilla
DESCRIPTION:a Banda dels Saritas
URL:https://arenysdemar.cat/document.php?id=41546
END:VEVENT
END:VCALENDAR