BEGIN:VCALENDAR
VERSION:2.0
PRODID:-//Plone.org//NONSGML plone.app.event//EN
X-WR-TIMEZONE:Europe/Madrid
BEGIN:VEVENT
SUMMARY:Teatre familiar: Jo vaig amb mi
DTSTART;TZID=Europe/Madrid;VALUE=DATE-TIME:20220306T180000
DTEND;TZID=Europe/Madrid;VALUE=DATE-TIME:20220306T190000
DTSTAMP;VALUE=DATE-TIME:20260423T152709Z
UID:e213c0bcb84fdee2b9bd92146186cdf8
CREATED;VALUE=DATE-TIME:20220306T000000Z
CATEGORIES:Infantils
LOCATION:Teatre Principal - C. Església, 45-47
ORGANIZER:Societat Coral l'Esperança i Regidoria de Cultura
COMMENT:Preu: 6 anticipada i 7 taquilla
DESCRIPTION:de Vania Produccions
URL:https://arenysdemar.cat/document.php?id=41550
END:VEVENT
END:VCALENDAR