BEGIN:VCALENDAR
VERSION:2.0
PRODID:-//Plone.org//NONSGML plone.app.event//EN
X-WR-TIMEZONE:Europe/Madrid
BEGIN:VEVENT
SUMMARY:Música: De vuelta a lo clásico
DTSTART;TZID=Europe/Madrid;VALUE=DATE-TIME:20220206T190000
DTEND;TZID=Europe/Madrid;VALUE=DATE-TIME:20220206T200000
DTSTAMP;VALUE=DATE-TIME:20260420T152625Z
UID:353248e92c5d1995f2e015d5d32da673
CREATED;VALUE=DATE-TIME:20220206T000000Z
CATEGORIES:Música
LOCATION:Teatre Principal - C. Església, 45-47
ORGANIZER:Societat Coral l'Esperança i Regidoria de Cultura
COMMENT:Preu: 10 anticipat i 12 taquilla
DESCRIPTION:amb el Duo Orígenes
URL:https://arenysdemar.cat/document.php?id=41554
END:VEVENT
END:VCALENDAR