BEGIN:VCALENDAR
VERSION:2.0
PRODID:-//Plone.org//NONSGML plone.app.event//EN
X-WR-TIMEZONE:Europe/Madrid
BEGIN:VEVENT
SUMMARY:Club de Lectura. Llegir el teatre: El mar: Visió d´uns nens que no l´han vist mai de Xavier Bobés
DTSTART;TZID=Europe/Madrid;VALUE=DATE-TIME:20220215T193000
DTEND;TZID=Europe/Madrid;VALUE=DATE-TIME:20220215T203000
DTSTAMP;VALUE=DATE-TIME:20260421T010810Z
UID:da8931cea5e32c95a7ce19afdc7b0147
CREATED;VALUE=DATE-TIME:20220215T000000Z
CATEGORIES:Literatura
LOCATION:Sala d'Actes de la Biblioteca - C. Bonaire, 3
ORGANIZER:Biblioteca - Regidoria de Cultura
DESCRIPTION:Moderada per Mercè Boher
URL:https://arenysdemar.cat/document.php?id=41576
END:VEVENT
END:VCALENDAR