BEGIN:VCALENDAR
VERSION:2.0
PRODID:-//Plone.org//NONSGML plone.app.event//EN
X-WR-TIMEZONE:Europe/Madrid
BEGIN:VEVENT
SUMMARY:Fira Brocanters i Col·leccionisme
DTSTART;TZID=Europe/Madrid;VALUE=DATE-TIME:20221009T000000
DTEND;TZID=Europe/Madrid;VALUE=DATE-TIME:20221009T010000
DTSTAMP;VALUE=DATE-TIME:20260423T152059Z
UID:374390ab27e651ec4ec302e66a1bc5ab
CREATED;VALUE=DATE-TIME:20221009T000000Z
CATEGORIES:Mostra
LOCATION:Riera del Pare Fita (davant del Calisay en amunt)
ORGANIZER:Crisàlide
COMMENT:Preu: gratuït
Durada: Fins a les 14h del migdia
URL:https://arenysdemar.cat/document.php?id=41590
END:VEVENT
END:VCALENDAR