BEGIN:VCALENDAR
VERSION:2.0
PRODID:-//Plone.org//NONSGML plone.app.event//EN
X-WR-TIMEZONE:Europe/Madrid
BEGIN:VEVENT
SUMMARY:Fira Brocanters i Col·leccionisme
DTSTART;TZID=Europe/Madrid;VALUE=DATE-TIME:20220508T000000
DTEND;TZID=Europe/Madrid;VALUE=DATE-TIME:20220508T010000
DTSTAMP;VALUE=DATE-TIME:20260425T180915Z
UID:6a12f7b14d34633f7d7b7d8a8127e8f5
CREATED;VALUE=DATE-TIME:20220508T000000Z
CATEGORIES:Mostra
LOCATION:Riera del Pare Fita (davant del Calisay en amunt)
ORGANIZER:Crisàlide
COMMENT:Preu: gratuït
Durada: Fins a les 14h del migdia
URL:https://arenysdemar.cat/document.php?id=41595
END:VEVENT
END:VCALENDAR