BEGIN:VCALENDAR
VERSION:2.0
PRODID:-//Plone.org//NONSGML plone.app.event//EN
X-WR-TIMEZONE:Europe/Madrid
BEGIN:VEVENT
SUMMARY:Hora del conte: Shhhh! Comença el conte!
DTSTART;TZID=Europe/Madrid;VALUE=DATE-TIME:20220217T180000
DTEND;TZID=Europe/Madrid;VALUE=DATE-TIME:20220217T190000
DTSTAMP;VALUE=DATE-TIME:20260420T170935Z
UID:2b3f3d672c3a396e87b8c00c755e2965
CREATED;VALUE=DATE-TIME:20220217T000000Z
CATEGORIES:Infantils
LOCATION:Sala d'Actes de la Biblioteca - C. Bonaire, 3
ORGANIZER:Biblioteca - Regidoria de Cultura
COMMENT:Durada: Activitat recomanda per a infants a partir de 4 anys
DESCRIPTION:a càrrec de la Carla Tanganelli
URL:https://arenysdemar.cat/document.php?id=41611
END:VEVENT
END:VCALENDAR