BEGIN:VCALENDAR
VERSION:2.0
PRODID:-//Plone.org//NONSGML plone.app.event//EN
X-WR-TIMEZONE:Europe/Madrid
BEGIN:VEVENT
SUMMARY:Fira d'Artesania
DTSTART;TZID=Europe/Madrid;VALUE=DATE-TIME:20220904T000000
DTEND;TZID=Europe/Madrid;VALUE=DATE-TIME:20220904T010000
DTSTAMP;VALUE=DATE-TIME:20260420T133839Z
UID:18e1d3e9c352088e6cdf12aeee5d8d9a
CREATED;VALUE=DATE-TIME:20220904T000000Z
CATEGORIES:Mostra
LOCATION:Riera Bisbe Pol
ORGANIZER:Crisàlide
COMMENT:Preu: gratuït
Durada: Tot el dia
URL:https://arenysdemar.cat/document.php?id=41616
END:VEVENT
END:VCALENDAR