BEGIN:VCALENDAR
VERSION:2.0
PRODID:-//Plone.org//NONSGML plone.app.event//EN
X-WR-TIMEZONE:Europe/Madrid
BEGIN:VEVENT
SUMMARY:Concerts de Carnaval
DTSTART;TZID=Europe/Madrid;VALUE=DATE-TIME:20220301T190000
DTEND;TZID=Europe/Madrid;VALUE=DATE-TIME:20220301T200000
DTSTAMP;VALUE=DATE-TIME:20260420T165148Z
UID:a936e5c395ac6c1e0adf02ead95f751f
CREATED;VALUE=DATE-TIME:20220301T000000Z
CATEGORIES:Festa,Música
LOCATION:Sala Polivalent del C.C.Calisay - Riera Pare Fita, 31
ORGANIZER:Regidoria de Festes i l'Associació Escola Municipal de Música Carles G. Vidiella
DESCRIPTION:a càrrec de la Banda de l'EMA i Los Sarita. Més informació del Carnaval en aquest enllaç
URL:https://arenysdemar.cat/document.php?id=41637
END:VEVENT
END:VCALENDAR