BEGIN:VCALENDAR
VERSION:2.0
PRODID:-//Plone.org//NONSGML plone.app.event//EN
X-WR-TIMEZONE:Europe/Madrid
BEGIN:VEVENT
SUMMARY:50è Concurs de Teatre Premi Vila d'Arenys de Mar: Cyrano d'Edmond Rostand
DTSTART;TZID=Europe/Madrid;VALUE=DATE-TIME:20220403T180000
DTEND;TZID=Europe/Madrid;VALUE=DATE-TIME:20220403T190000
DTSTAMP;VALUE=DATE-TIME:20260425T160822Z
UID:2cb31e1d98c09cd2a689268f08da6ce6
CREATED;VALUE=DATE-TIME:20220403T000000Z
CATEGORIES:Teatre
LOCATION:Casal de Joventut Seràfica - Teatre dels Seràfics - Josep Baralt, s/n
ORGANIZER:Grup Artístic Carles Xena i Regidoria de Cultura
COMMENT:Preu: Per reserva d'entrades al correu entrades.serafics@gmail.com o bé directament al teatre una hora abans
DESCRIPTION:a càrrec del Grup de Teatre del Talión de Lleida
URL:https://arenysdemar.cat/document.php?id=41686
END:VEVENT
END:VCALENDAR