BEGIN:VCALENDAR
VERSION:2.0
PRODID:-//Plone.org//NONSGML plone.app.event//EN
X-WR-TIMEZONE:Europe/Madrid
BEGIN:VEVENT
SUMMARY:Club de Lectura. Llegir el teatre: Macbett d'Eugène Ionesco
DTSTART;TZID=Europe/Madrid;VALUE=DATE-TIME:20220315T193000
DTEND;TZID=Europe/Madrid;VALUE=DATE-TIME:20220315T203000
DTSTAMP;VALUE=DATE-TIME:20260426T030104Z
UID:14a5fd7ed2b4d71befcc6f75487d0834
CREATED;VALUE=DATE-TIME:20220315T000000Z
CATEGORIES:Literatura
LOCATION:Sala d'Actes de la Biblioteca - C. Bonaire, 3
ORGANIZER:Biblioteca - Regidoria de Cultura
DESCRIPTION:Moderada per Mercè Boher
URL:https://arenysdemar.cat/document.php?id=41717
END:VEVENT
END:VCALENDAR