BEGIN:VCALENDAR
VERSION:2.0
PRODID:-//Plone.org//NONSGML plone.app.event//EN
X-WR-TIMEZONE:Europe/Madrid
BEGIN:VEVENT
SUMMARY:Hora del conte especial de Sant Jordi: Llegendes de dracs
DTSTART;TZID=Europe/Madrid;VALUE=DATE-TIME:20220421T180000
DTEND;TZID=Europe/Madrid;VALUE=DATE-TIME:20220421T190000
DTSTAMP;VALUE=DATE-TIME:20260425T194109Z
UID:68753cf28552df31b0f183892d170687
CREATED;VALUE=DATE-TIME:20220421T000000Z
CATEGORIES:Infantils
LOCATION:Sala d'Actes de la Biblioteca - C. Bonaire, 3
ORGANIZER:Biblioteca - Regidoria de Cultura
COMMENT:Durada: Activitat recomanada per a infants a partir de 4 anys.
DESCRIPTION:a càrrec d'Ingrid Domingo
URL:https://arenysdemar.cat/document.php?id=41810
END:VEVENT
END:VCALENDAR