BEGIN:VCALENDAR
VERSION:2.0
PRODID:-//Plone.org//NONSGML plone.app.event//EN
X-WR-TIMEZONE:Europe/Madrid
BEGIN:VEVENT
SUMMARY:Celebració eucarística amb motiu de l'inici de l'Any Vocacional Escolàpies
DTSTART;TZID=Europe/Madrid;VALUE=DATE-TIME:20220313T121500
DTEND;TZID=Europe/Madrid;VALUE=DATE-TIME:20220313T131500
DTSTAMP;VALUE=DATE-TIME:20260425T233214Z
UID:b970c4df79c2e2e99c6533055c322ce5
CREATED;VALUE=DATE-TIME:20220313T000000Z
LOCATION:Església de Santa Maria - Plaça de l'Església
ORGANIZER:Religioses Escolàpies i Parròquia de Santa Maria
URL:https://arenysdemar.cat/document.php?id=41843
END:VEVENT
END:VCALENDAR