BEGIN:VCALENDAR
VERSION:2.0
PRODID:-//Plone.org//NONSGML plone.app.event//EN
X-WR-TIMEZONE:Europe/Madrid
BEGIN:VEVENT
SUMMARY:Balls del dissabte
DTSTART;TZID=Europe/Madrid;VALUE=DATE-TIME:20220423T223000
DTEND;TZID=Europe/Madrid;VALUE=DATE-TIME:20220423T233000
DTSTAMP;VALUE=DATE-TIME:20260423T011627Z
UID:c02fdefe30ee990ae7867407a87b577b
CREATED;VALUE=DATE-TIME:20220423T000000Z
CATEGORIES:Música
LOCATION:Ateneu Arenyenc - Anselm Clavé, 22
ORGANIZER:Ateneu Arenyenc
COMMENT:Preu: Soci 5 &euro; i no soci 8 &euro;
DESCRIPTION:amb l'actuació del Duet Sharazan
URL:https://arenysdemar.cat/document.php?id=41855
END:VEVENT
END:VCALENDAR