BEGIN:VCALENDAR
VERSION:2.0
PRODID:-//Plone.org//NONSGML plone.app.event//EN
X-WR-TIMEZONE:Europe/Madrid
BEGIN:VEVENT
SUMMARY:Exposició de puntes: Les fades de la reina Ermessenda
DTSTART;TZID=Europe/Madrid;VALUE=DATE-TIME:20220401T180000
DTEND;TZID=Europe/Madrid;VALUE=DATE-TIME:20220401T190000
DTSTAMP;VALUE=DATE-TIME:20260423T233256Z
UID:9f66396c0474423b59bf52f240d67308
CREATED;VALUE=DATE-TIME:20220401T000000Z
CATEGORIES:Exposició
LOCATION:Sala Exposicions del C.C.Calisay - Riera del Pare Fita, 31
ORGANIZER:Regidoria de Cultura i Museu
COMMENT:Durada: Fins al 24 d'abril de 2022
DESCRIPTION:a càrrec de les Puntaires de Girona
URL:https://arenysdemar.cat/document.php?id=41887
END:VEVENT
END:VCALENDAR