BEGIN:VCALENDAR
VERSION:2.0
PRODID:-//Plone.org//NONSGML plone.app.event//EN
X-WR-TIMEZONE:Europe/Madrid
BEGIN:VEVENT
SUMMARY:Vespres Diatònics: Benoit Guerbigny
DTSTART;TZID=Europe/Madrid;VALUE=DATE-TIME:20220507T193000
DTEND;TZID=Europe/Madrid;VALUE=DATE-TIME:20220507T203000
DTSTAMP;VALUE=DATE-TIME:20260423T105431Z
UID:788d6d40a59d650cbfd660aaa66c3e47
CREATED;VALUE=DATE-TIME:20220507T000000Z
CATEGORIES:Dansa,Festa,Música
LOCATION:Pati del C.C.Calisay - Riera del Pare Fita, 31
ORGANIZER:Ajuntament d'Arenys de Mar i La Diatònica
DESCRIPTION:Concert-Ball folk i tradicional amb acordió diatònic
URL:https://arenysdemar.cat/document.php?id=41901
END:VEVENT
END:VCALENDAR