BEGIN:VCALENDAR
VERSION:2.0
PRODID:-//Plone.org//NONSGML plone.app.event//EN
X-WR-TIMEZONE:Europe/Madrid
BEGIN:VEVENT
SUMMARY:Ballada de sardanes
DTSTART;TZID=Europe/Madrid;VALUE=DATE-TIME:20220423T193000
DTEND;TZID=Europe/Madrid;VALUE=DATE-TIME:20220423T203000
DTSTAMP;VALUE=DATE-TIME:20260419T234017Z
UID:cd2ec0fea26edddaabdad4f5f4605100
CREATED;VALUE=DATE-TIME:20220423T000000Z
CATEGORIES:Dansa
LOCATION:Plaça de l'Església - Plaça de l'Església
ORGANIZER:Regidoria de Cultura
DESCRIPTION:amb la Cobla Osona
URL:https://arenysdemar.cat/document.php?id=41935
END:VEVENT
END:VCALENDAR