BEGIN:VCALENDAR
VERSION:2.0
PRODID:-//Plone.org//NONSGML plone.app.event//EN
X-WR-TIMEZONE:Europe/Madrid
BEGIN:VEVENT
SUMMARY:Conferència: Gràfics i imatges amb ordinador: aplicacions a la medicina
DTSTART;TZID=Europe/Madrid;VALUE=DATE-TIME:20220401T190000
DTEND;TZID=Europe/Madrid;VALUE=DATE-TIME:20220401T200000
DTSTAMP;VALUE=DATE-TIME:20260423T152441Z
UID:13ad08daa3617fc0f05a8b9d11f4d3d2
CREATED;VALUE=DATE-TIME:20220401T000000Z
CATEGORIES:Conferència
LOCATION:Sala d'actes de l'Ateneu
ORGANIZER:Secció de Cultura de l'Ateneu
COMMENT:Preu: Gratuït
DESCRIPTION:a càrrec de la doctora M. Dolors Ayala Vallespí
URL:https://arenysdemar.cat/document.php?id=41961
END:VEVENT
END:VCALENDAR