BEGIN:VCALENDAR
VERSION:2.0
PRODID:-//Plone.org//NONSGML plone.app.event//EN
X-WR-TIMEZONE:Europe/Madrid
BEGIN:VEVENT
SUMMARY:30a Festa de l'arròs
DTSTART;TZID=Europe/Madrid;VALUE=DATE-TIME:20220501T110000
DTEND;TZID=Europe/Madrid;VALUE=DATE-TIME:20220501T120000
DTSTAMP;VALUE=DATE-TIME:20260419T215543Z
UID:06593e218adcf0dc2b7bd0a737abb589
CREATED;VALUE=DATE-TIME:20220501T000000Z
CATEGORIES:Festa
LOCATION:Plaça de la Sardana
ORGANIZER:Ajuntament d'Arenys de Mar
URL:https://arenysdemar.cat/document.php?id=41975
END:VEVENT
END:VCALENDAR