BEGIN:VCALENDAR
VERSION:2.0
PRODID:-//Plone.org//NONSGML plone.app.event//EN
X-WR-TIMEZONE:Europe/Madrid
BEGIN:VEVENT
SUMMARY:Swing a l'Ateneu
DTSTART;TZID=Europe/Madrid;VALUE=DATE-TIME:20220416T210000
DTEND;TZID=Europe/Madrid;VALUE=DATE-TIME:20220416T220000
DTSTAMP;VALUE=DATE-TIME:20260425T160939Z
UID:7d5c8a089c8db03b163dd60daac45089
CREATED;VALUE=DATE-TIME:20220416T000000Z
CATEGORIES:Dansa,Música
LOCATION:Ateneu Arenyenc - Anselm Clavé, 22
ORGANIZER:Tocats pel Swing i Ateneu Arenyenc
COMMENT:Preu: General 10&euro; i Socis 8&euro;
Durada: Fins a les 12 de la nit
DESCRIPTION:Concert i ballada amb Nòmada Trio
URL:https://arenysdemar.cat/document.php?id=42061
END:VEVENT
END:VCALENDAR