BEGIN:VCALENDAR
VERSION:2.0
PRODID:-//Plone.org//NONSGML plone.app.event//EN
X-WR-TIMEZONE:Europe/Madrid
BEGIN:VEVENT
SUMMARY:Presentació del llibre: Desde el rincón de mi soledad de Maria José Robledo
DTSTART;TZID=Europe/Madrid;VALUE=DATE-TIME:20220525T183000
DTEND;TZID=Europe/Madrid;VALUE=DATE-TIME:20220525T193000
DTSTAMP;VALUE=DATE-TIME:20260423T150219Z
UID:1b297629fb135ed65d15ff758e8f22b4
CREATED;VALUE=DATE-TIME:20220525T000000Z
CATEGORIES:Literatura
LOCATION:Sala d'Actes de la Biblioteca - C. Bonaire, 3
ORGANIZER:Biblioteca - Regidoria de Cultura
DESCRIPTION:a càrrec de Rosa Munné
URL:https://arenysdemar.cat/document.php?id=42086
END:VEVENT
END:VCALENDAR